Workbook
Name OLE_LINK1: 'FR - Fin Report'!#REF!
Name OLE_LINK1: 'MR - Op Bdg'!#REF!
Name OLE_LINK1: 'RQ - Op Bdg'!#REF!

Sheet Budget Category Guidance 
A1: Budget Categories: Guidance Note
A2: Project RQ Cost Category | C2: Cost Definition | D2: Notes | E2: Examples
A3: 1 - Staff costs | B3: Salaries (incl. per diem, fringe benefit, severance pay, risk premium, R&R, etc.) | C3: Project staff salaries including income taxes; project staff social security or national insurance contributions; staff-related statutory costs; additional remuneration paid as part of the agency's standard staff contract; statutory termination payments at the end of the project; costs related to persons paid as consultants but acting as staff members in the activities.staff housing costs where required directly by the project. | D3: Costs should be traceable and linked to a particular staff member working on the Action | E3: √ Salaries, fringe benefits, local taxes, recruitment, R&R costs. Housing costs for international staff (rent, utilities etc.)
D4: Staff should be seperated for international staff and national staff | E4: √ Temporary staff for non-project costs e.g. casual cook for office etc.
E5: Consultants and secondees depends on function if work as staff member can be included here but if work for specific assignmnet on project and not similar to staff work then should not be included here.
B6: Annex 2 - Staff costs a1 - Actual costs a2 - Unit costs using usual cost accounting practices | D6: A1: staff costs calculated following the standard method of 215 yearly workable days (as described in the MGA) A2: staff costs if the unit costs are calculated following DG ECHO Director General decision of 21/09/2021 ref.: ARES (2021)5761006
A7: 2. Travel and subsistence costs | C7: Travel in relation to project activities or monitoring, including car rental, fuel, depreciation of pre-owned vehicles used for the project, required flights for the project and public transport; accommodation for travelling staff on project activities (all based on the agency's agreed policy); visas and other travel permits where required by the project.subsistence or per diems for travelling staff; | E7: √ Per diem
E8: √ housing rent for international staff, subsitences paid separate from payroll
E9: √ flight, train, road transportation
E10: √ Accomodation
E11: √ Visa costs
A12: 3 - Goods & Services delivered to the beneficiaries | B12: 2.1 Cash & Voucher | C12: financial support to beneficiaries; distribution costs associated with financial support to beneficiaries | E12: √ Cash assistance, cash for work, voucher
E13: √ service fee for cash transfer
B14: 2.2 Other Goods and Services | C14: Procured supplies and materials required for the activities; Cash for work payments; education and sensitization sessions, radio spots, etc. that are directed to beneficiaries (whatever the topic), all costs related to workshops, printing of leaflets, brochures, etc. if part of the activities | E14: √ Drugs, health materials and supplies, water testing products, NFIs.
E15: √ Latrine construction work and/or materials
E16: √ Labour costs directly related to project activities e.g. Incentives of Health Promoters
E17: √ Technical diagnostics, studies, needs assessment, technical reports
E18: √ Training costs (materials, hall rental, food, facilitator fees, travel reimbursement for training participants etc.)
E19: √ Fuel for generator in a health facility
A20: 4 - Running costs | C20: Field and Capital office / Wharehouse / Building expenses (rent, utilities, furniture, consumable, insurance and supplies), IT/office/communication equipment - maintenance & running costs,depreciation of pre-owned equipment used for the project; any other project running cost, equipment with a unit value less than EUR 1,000 | D20: Costs associated with supporting the delivery of the project, which are not allocated to other cost categories. This includes all non staff costs of procurement, transportation and storage for the goods and services for the beneficiaries. | E20: √ Office rent and utilities, office supplies, vehicle costs (rental, fuel, maintenance, registration fees etc.), telecommunication costs (phones, internet etc.), security
E21: √ Insurance, bank fees, legal fees
A22: 5- Equipment costs | C22: Purchase costs of vehicles, equipment and other capital items directly required for the delivery of the funded activities, and with a unit value greater than EUR 1,000 | D22: Purchase costs of equipment above EUR 1,000. | E22: √ Laptops, vehicles, data collection equipment, security equipment
A23: 6 - Capacity Building Local IP | C23: Capacity Building training workshops for local implementing partners
A24: 7 - Specialised services | C24: costs of project services including consultants, project audit fees, legal advice specifically in connection with the project and other required specialists | E24: √ Project External Evaluation, project audit
A25: 8 - EU Visibility & Communication activites | C25: These are costs solely associated with communicating ECHO’s support of a project, including activities that highlight humanitarian issues and ECHO’s role more generally to wider audiences (not just beneficiaries). It is a contractual obligation (unless a derogation is requested and approved). | E25: √ Publications explaining the Commission’s humanitarian role and the essential messages √ Events showing the partnership between the Commission with the agency responsible for the project √ Human interest films on projects being financed by the Commission.
C26: This category does not include operational communication costs, i.e. products, which directly underpin the implementation of an action (e.g. training manuals, hygiene promotion material, advocacy leaflets, etc.). Costs related to the production of such material, also when displaying EU visual identity, are not covered under the visibility line.
C27: Standard visibility costs: Maximum of 1% of the project costs up to a maximum of 10,000 EUR; Entails the display of the EU visual identity on project sites and EU-funded supplies, and the written and verbal acknowledgement of the EU's funding and the partnership with the EU.
C28: Above-standard visibility: More elaborate communication actions with the view of more effectively reaching European audiences. e.g. visits by journalists. Detailed communication plan required. Any special visibility should be discussed and agreed with ECHO in advance.
A29: 9 - Field office costs (Simplified allocation method) | C29: The total of the shared cost pools to which this funding arrangement belongs, for the project time period

Sheet RQ - Op Bdg
A1: INITIAL REQUEST - OPERATIONAL BUDGET | D1: ALL PARTNERS | E1: SPLIT by CO-PARTNER | M1: SPLIT by RESULT - ALL PARTNERS
A2: All amounts in EUR | D2: TOTAL estimated budget - RQ | E2: COORDINATOR | G2: Co-Partner 1 | I2: Co-Partner 2 | K2: Annex II cost category for Certified Partners | L2: ANNEX II Cost Category for third Parties (IP) | M2: RESULT 1 | N2: RESULT 2 | O2: RESULT 3
A3: Budget codes
A4: ECHO | B4: Partner | E4: Direct Implementation | F4: Implemented by IP(s) | G4: Direct Implementation | H4: Implemented by IP(s) | I4: Direct Implementation | J4: Implemented by IP(s)
A5: I. | C5: PROGRAMME COSTS
A6: I.1 | C6: Programme Staff costs
C7: Programme staff Salaries (incl. per diem, fringe benefit, severance pay, risk premium, R&R, etc.)
A8: I.1.1 | C8: International Programme Staff | D8: =SUM(E8:J8) -> 0 | K8: A1/A2 | L8: D1
A9: I.1.2 | C9: Local Programme Staff | D9: =SUM(E9:J9) -> 0 | K9: A1/A2 | L9: D1
A10: I.1.3 | C10: Regional Office Programme Staff | D10: =SUM(E10:J10) -> 0 | K10: A1/A2 | L10: D1
A11: I.1.4 | C11: Headquarters Office Programme Staff | D11: =SUM(E11:J11) -> 0 | K11: A1/A2 | L11: D1
C12: Total Direct Programme Staff costs | D12: =SUM(D8:D11) -> 0 | E12: =SUM(E8:E11) -> 0 | F12: =SUM(F8:F11) -> 0 | G12: =SUM(G8:G11) -> 0 | H12: =SUM(H8:H11) -> 0 | I12: =SUM(I8:I11) -> 0 | J12: =SUM(J8:J11) -> 0 | M12: =SUM(M8:M11) -> 0 | N12: =SUM(N8:N11) -> 0 | O12: =SUM(O8:O11) -> 0
A13: I.1.5 | C13: Programme staff Travel and Subsistence costs | D13: =SUM(E13:J13) -> 0 | K13: C1 | L13: D1
C14: Total Programme staff Travel and Subsistence costs | D14: =SUM(D13) -> 0 | E14: =SUM(E13) -> 0 | F14: =SUM(F13) -> 0 | G14: =SUM(G13) -> 0 | H14: =SUM(H13) -> 0 | I14: =SUM(I13) -> 0 | J14: =SUM(J13) -> 0 | M14: =SUM(M13) -> 0 | N14: =SUM(N13) -> 0 | O14: =SUM(O13) -> 0
A15: I.2 | C15: Goods & Services delivered to the beneficiaries
C16: Cash & Voucher
A17: I.2.1 | C17: In Cash (net amount of cash received by beneficiaries) | D17: =SUM(E17:J17) -> 0 | K17: D1 | L17: D1
A18: I.2.2 | C18: Transfer costs for cash provision (provider/cards fees, etc.) | D18: =SUM(E18:J18) -> 0 | K18: C3 | L18: D1
A19: I.2.3 | C19: Via Vouchers (net amount of cash received by beneficiaries) | D19: =SUM(E19:J19) -> 0 | K19: C3 | L19: D1
C20: Total Cash & Voucher | D20: =SUM(D17:D19) -> 0 | E20: =SUM(E17:E19) -> 0 | F20: =SUM(F17:F19) -> 0 | G20: =SUM(G17:G19) -> 0 | H20: =SUM(H17:H19) -> 0 | I20: =SUM(I17:I19) -> 0 | J20: =SUM(J17:J19) -> 0 | M20: =SUM(M17:M19) -> 0 | N20: =SUM(N17:N19) -> 0 | O20: =SUM(O17:O19) -> 0
C21: Other Goods & Services delivered to the beneficiaries
A22: I.2.4 | C22: To be detailed as relevant for partner | D22: =SUM(E22:J22) -> 0 | K22: C2/C3 | L22: D1
A23: I.2.5 | C23: To be detailed as relevant for partner | D23: =SUM(E23:J23) -> 0 | K23: C2/C3 | L23: D1
A24: I.2.6 | C24: … | D24: =SUM(E24:J24) -> 0 | K24: C2/C3 | L24: D1
A25: I.2.7 | D25: =SUM(E25:J25) -> 0 | K25: C2/C3 | L25: D1
A26: I.2.8 | D26: =SUM(E26:J26) -> 0 | K26: C2/C3 | L26: D1
A27: I.2.9 | D27: =SUM(E27:J27) -> 0 | K27: C2/C3 | L27: D1
C28: Total goods & services delivered to the beneficiaries | D28: =SUM(D22:D27) -> 0 | E28: =SUM(E22:E27) -> 0 | F28: =SUM(F22:F27) -> 0 | G28: =SUM(G22:G27) -> 0 | H28: =SUM(H22:H27) -> 0 | I28: =SUM(I22:I27) -> 0 | J28: =SUM(J22:J27) -> 0 | M28: =SUM(M22:M27) -> 0 | N28: =SUM(N22:N27) -> 0 | O28: =SUM(O22:O27) -> 0
C29: TOTAL PROGRAMME DIRECT COSTS | D29: =SUM(D12,D14,D20,D28) -> 0 | E29: =SUM(E12,E14,E20,E28) -> 0 | F29: =SUM(F12,F14,F20,F28) -> 0 | G29: =SUM(G12,G14,G20,G28) -> 0 | H29: =SUM(H12,H14,H20,H28) -> 0 | I29: =SUM(I12,I14,I20,I28) -> 0 | J29: =SUM(J12,J14,J20,J28) -> 0 | M29: =SUM(M12,M14,M20,M28) -> 0 | N29: =SUM(N12,N14,N20,N28) -> 0 | O29: =SUM(O12,O14,O20,O28) -> 0
A30: II. | C30: SUPPORT COSTS
A31: II.1 | C31: Support Staff costs
C32: Support staff Salaries (incl. per diem, fringe benefit, severance pay, risk premium, R&R, etc.)
A33: II.1.1 | C33: International Support Staff | D33: =SUM(E33:J33) -> 0 | K33: A1/A2 | L33: D1
A34: II.1.2 | C34: Local Support Staff | D34: =SUM(E34:J34) -> 0 | K34: A1/A2 | L34: D1
A35: II.1.3 | C35: Regional Office Support Staff | D35: =SUM(E35:J35) -> 0 | K35: A1/A2 | L35: D1
A36: II.1.4 | C36: Headquarters Office Support Staff | D36: =SUM(E36:J36) -> 0 | K36: A1/A2 | L36: D1
C37: Total Direct Support Staff costs | D37: =SUM(D33:D36) -> 0 | E37: =SUM(E33:E36) -> 0 | F37: =SUM(F33:F36) -> 0 | G37: =SUM(G33:G36) -> 0 | H37: =SUM(H33:H36) -> 0 | I37: =SUM(I33:I36) -> 0 | J37: =SUM(J33:J36) -> 0 | M37: =SUM(M33:M36) -> 0 | N37: =SUM(N33:N36) -> 0 | O37: =SUM(O33:O36) -> 0
A38: II.1.5 | C38: Support staff Travel and Subsistence costs | D38: =SUM(E38:J38) -> 0 | K38: C1 | L38: D1
C39: Total Support staff Travel and Subsistence costs | D39: =SUM(D38) -> 0 | E39: =SUM(E38) -> 0 | F39: =SUM(F38) -> 0 | G39: =SUM(G38) -> 0 | H39: =SUM(H38) -> 0 | I39: =SUM(I38) -> 0 | J39: =SUM(J38) -> 0 | M39: =SUM(M38) -> 0 | N39: =SUM(N38) -> 0 | O39: =SUM(O38) -> 0
A40: II.2 | C40: Running costs
...

Sheet RQ - Annex 2
C1: ANNEX 2 XXX MGA — MULTI + MONO
C2: ESTIMATED BUDGET FOR THE ACTION
C3: Estimated eligible1 costs (per budget category) | U3: Estimated EU contribution2
C4: Direct costs | S4: Indirect costs | T4: Total costs | U4: EU contribution to eligible costs | X4: Contributions | AB4: Maximum grant amount6
C5: A. Personnel costs | H5: B. Subcontracting costs | I5: C. Purchase costs | O5: D. Other cost categories | S5: E. Indirect costs3 | U5: Funding rate %4 | V5: Maximum EU contribution5 | W5: Requested EU contribution | X5: F.Contributions
C6: A.1 Employees (or equivalent) | E6: A.4 SME owners and natural person beneficiaries | F6: A.5 Volunteers | G6: A.6 [name] | I6: C.1 Travel and subsistence | J6: C.1 Travel and subsistence | M6: C.2 Equipment | N6: C.3 Other goods, works and services | O6: D.1 Financial support to third parties | Q6: D.2 Field office cost | R6: D.X [name] | X6: F.X [name] | Y6: F.X [name] | Z6: F.X [name] | AA6: F.X [name]
C7: A.2 Natural persons under direct contract | J7: Travel | K7: Accommodation | L7: Subsistence
C8: A.3 Seconded persons
A9: Forms of funding | B9: Names | C9: Actual costs | D9: Unit costs (usual accounting practices) | E9: Unit costs7 | F9: Unit costs7 | G9: [Actual costs][Unit costs7][Lump sum costs] | H9: Actual costs | I9: Actual costs | J9: [Actual costs][Unit7 or actual costs] | K9: [Actual costs][Unit7 or actual costs] | L9: [Actual costs][Unit7 or actual costs] | M9: Actual costs | N9: Actual costs | O9: Actual costs | P9: Unit costs7 | Q9: Unit costs (usual accounting practices) | R9: Unit costs7 | S9: Flat-rate costs8 | X9: Unit contribution7 | Y9: Flat-rate contribution8 | Z9: Lump sum contribution | AA9: Financing not linked to costs
C10: a1 | D10: a2 | E10: a3 | F10: a4 | G10: a5 | H10: b | I10: c1 | J10: c1a | K10: c1b | L10: c1c | M10: c2 | N10: c3 | O10: d1 | P10: [d1] | Q10: d2 | R10: d3 | S10: e = flat-rate * (a1 + b + c1 + c2 + c3 + d1 + d2) | T10: f = a+b+c+d+e | U10: U | V10: g = f*U% | W10: h | X10: i | Y10: j = flat-rate * (XXX) | Z10: k | AA10: l | AB10: m
A11: 1 - Coordinator | B11: ='RQ - Op Bdg'!E3 -> 0 | H11: 0 | I11: ='RQ - Op Bdg'!E14+'RQ - Op Bdg'!E39 -> 0 | Q11: ='RQ - Op Bdg'!E67 -> 0 | S11: =(C11+D11+H11+I11+M11+N11+O11+Q11)*'RQ - Op Bdg'!$D$72 -> 0 | T11: =C11+D11+H11+I11+M11+N11+O11+Q11+S11 -> 0 | V11: =T11*U14 -> #DIV/0! | W11: =V11 -> #DIV/0! | AB11: =W11 -> #DIV/0!
A12: 2 - Co-beneficiary 1 | B12: ='RQ - Op Bdg'!G3 -> 0 | H12: 0 | I12: ='RQ - Op Bdg'!G14+'RQ - Op Bdg'!G39 -> 0 | Q12: ='RQ - Op Bdg'!G67 -> 0 | S12: =(C12+D12+H12+I12+M12+N12+O12+Q12)*'RQ - Op Bdg'!$D$72 -> 0 | T12: =C12+D12+H12+I12+M12+N12+O12+Q12+S12 -> 0 | V12: =T12*U14 -> #DIV/0! | W12: =V12 -> #DIV/0! | AB12: =W12 -> #DIV/0!
A13: 3 - Co-beneficiary 2 | B13: ='RQ - Op Bdg'!I3 -> 0 | H13: 0 | I13: ='RQ - Op Bdg'!I14+'RQ - Op Bdg'!I39 -> 0 | Q13: ='RQ - Op Bdg'!I67 -> 0 | S13: =(C13+D13+H13+I13+M13+N13+O13+Q13)*'RQ - Op Bdg'!$D$72 -> 0 | T13: =C13+D13+H13+I13+M13+N13+O13+Q13+S13 -> 0 | V13: =T13*U14 -> #DIV/0! | W13: =V13 -> #DIV/0! | AB13: =W13 -> #DIV/0!
A14: Total consortium | C14: =SUM(C11:C13) -> 0 | D14: =SUM(D11:D13) -> 0 | H14: =SUM(H11:H13) -> 0 | I14: =SUM(I11:I13) -> 0 | M14: =SUM(M11:M13) -> 0 | N14: =SUM(N11:N13) -> 0 | O14: =SUM(O11:O13) -> 0 | Q14: =SUM(Q11:Q13) -> 0 | S14: =SUM(S11:S13) -> 0 | T14: =SUM(T11:T13) -> 0 | U14: ='RQ - Op Bdg'!N74 -> #DIV/0! | V14: =SUM(V11:V13) -> #DIV/0! | W14: =SUM(W11:W13) -> #DIV/0! | AB14: =SUM(AB11:AB13) -> #DIV/0!
U15: % of EC Contribution on total project
A17: 1. See Article 6 for the eligibility conditions. All amounts must be expressed in EUR (see Article 21 for the conversion rules).
A18: 2.The consortium remains free to decide on a different internal distribution of the EU funding (via the consortium agreement; see Article 7).
A19: 3. Indirect costs already covered by an operating grant (received under any EU funding programme) are ineligible (see Article 6.3). Therefore, a beneficiary/affiliated entity that receives an operating grant during the action duration cannot
A20: declare indirect costs for the year(s)/reporting period(s) covered by the operating grant, unless they can demonstrate that the operating grant does not cover any costs of the action. This requires specific accounting tools.
A21: 4. See Data Sheet for the funding rate(s).
A22: 5. This is the theoretical amount of the EU contribution to costs, if the reimbursement rate is applied to all the budgeted costs. This theoretical amount is then capped by the 'maximum grant amount'.
A23: 6. The 'maximum grant amount' is the maximum grant amount decided by the EU. It normally corresponds to the requested grant, but may be lower.
A24: 7. See Annex 2a 'Additional information on the estimated budget' for the details (units, cost per unit).
A25: 8. See Data Sheet for the flat-rate.

Sheet MR - Op Bdg
A1: MODIFICATION REQUEST OPERATIONAL BUDGET | D1: ALL PARTNERS | G1: SPLIT by CO-PARTNER | O1: SPLIT by RESULT - ALL PARTNERS
A2: All amounts in EUR | D2: TOTAL previous agreed budget - RQ or previous MR | E2: Diff. | F2: TOTAL revised budget - MR | G2: COORDINATOR | I2: Co-Partner 1 | K2: Co-Partner 2 | M2: Annex II cost category for Certified Partners | N2: ANNEX II Cost Category for third Parties (IP) | O2: RESULT 1 | P2: RESULT 2 | Q2: RESULT 3
A3: Budget codes
A4: ECHO | B4: Partner | G4: Direct Implementation | H4: Implemented by IP(s) | I4: Direct Implementation | J4: Implemented by IP(s) | K4: Direct Implementation | L4: Implemented by IP(s)
A5: I. | C5: PROGRAMME COSTS
A6: I.1 | C6: Programme Staff costs
C7: Programme staff Salaries (incl. per diem, fringe benefit, severance pay, risk premium, R&R, etc.)
A8: I.1.1 | C8: International Programme Staff | D8: ='RQ - Op Bdg'!D8 -> 0 | E8: =F8-D8 -> 0 | F8: =SUM(G8:L8) -> 0 | M8: A1/A2 | N8: D1
A9: I.1.2 | C9: Local Programme Staff | D9: ='RQ - Op Bdg'!D9 -> 0 | E9: =F9-D9 -> 0 | F9: =SUM(G9:L9) -> 0 | M9: A1/A2 | N9: D1
A10: I.1.3 | C10: Regional Office Programme Staff | D10: ='RQ - Op Bdg'!D10 -> 0 | E10: =F10-D10 -> 0 | F10: =SUM(G10:L10) -> 0 | M10: A1/A2 | N10: D1
A11: I.1.4 | C11: Headquarters Office Programme Staff | D11: ='RQ - Op Bdg'!D11 -> 0 | E11: =F11-D11 -> 0 | F11: =SUM(G11:L11) -> 0 | M11: A1/A2 | N11: D1
C12: Total Direct Programme Staff costs | D12: =SUM(D8:D11) -> 0 | E12: =SUM(E8:E11) -> 0 | F12: =SUM(F8:F11) -> 0 | G12: =SUM(G8:G11) -> 0 | H12: =SUM(H8:H11) -> 0 | I12: =SUM(I8:I11) -> 0 | J12: =SUM(J8:J11) -> 0 | K12: =SUM(K8:K11) -> 0 | L12: =SUM(L8:L11) -> 0 | O12: =SUM(O8:O11) -> 0 | P12: =SUM(P8:P11) -> 0 | Q12: =SUM(Q8:Q11) -> 0
A13: I.1.5 | C13: Programme staff Travel and Subsistence costs | D13: ='RQ - Op Bdg'!D13 -> 0 | E13: =F13-D13 -> 0 | F13: =SUM(G13:L13) -> 0 | M13: C1 | N13: D1
C14: Total Programme staff Travel and Subsistence costs | D14: =SUM(D13) -> 0 | E14: =SUM(E13) -> 0 | F14: =SUM(F13) -> 0 | G14: =SUM(G13) -> 0 | H14: =SUM(H13) -> 0 | I14: =SUM(I13) -> 0 | J14: =SUM(J13) -> 0 | K14: =SUM(K13) -> 0 | L14: =SUM(L13) -> 0 | O14: =SUM(O13) -> 0 | P14: =SUM(P13) -> 0 | Q14: =SUM(Q13) -> 0
A15: I.2 | C15: Goods & Services delivered to the beneficiaries
C16: Cash & Voucher
A17: I.2.1 | C17: In Cash (net amount of cash received by beneficiaries) | D17: ='RQ - Op Bdg'!D17 -> 0 | E17: =F17-D17 -> 0 | F17: =SUM(G17:L17) -> 0 | M17: D1 | N17: D1
A18: I.2.2 | C18: Transfer costs for cash provision (provider/cards fees, etc.) | D18: ='RQ - Op Bdg'!D18 -> 0 | E18: =F18-D18 -> 0 | F18: =SUM(G18:L18) -> 0 | M18: C3 | N18: D1
A19: I.2.3 | C19: Via Vouchers (net amount of cash received by beneficiaries) | D19: ='RQ - Op Bdg'!D19 -> 0 | E19: =F19-D19 -> 0 | F19: =SUM(G19:L19) -> 0 | M19: C3 | N19: D1
C20: Total Cash & Voucher | D20: =SUM(D17:D19) -> 0 | E20: =SUM(E17:E19) -> 0 | F20: =SUM(F17:F19) -> 0 | G20: =SUM(G17:G19) -> 0 | H20: =SUM(H17:H19) -> 0 | I20: =SUM(I17:I19) -> 0 | J20: =SUM(J17:J19) -> 0 | K20: =SUM(K17:K19) -> 0 | L20: =SUM(L17:L19) -> 0 | O20: =SUM(O17:O19) -> 0 | P20: =SUM(P17:P19) -> 0 | Q20: =SUM(Q17:Q19) -> 0
C21: Other Goods & Services delivered to the beneficiaries
A22: I.2.4 | C22: To be detailed as relevant for partner | D22: ='RQ - Op Bdg'!D22 -> 0 | E22: =F22-D22 -> 0 | F22: =SUM(G22:L22) -> 0 | M22: C2/C3 | N22: D1
A23: I.2.5 | C23: To be detailed as relevant for partner | D23: ='RQ - Op Bdg'!D23 -> 0 | E23: =F23-D23 -> 0 | F23: =SUM(G23:L23) -> 0 | M23: C2/C3 | N23: D1
A24: I.2.6 | C24: … | D24: ='RQ - Op Bdg'!D24 -> 0 | E24: =F24-D24 -> 0 | F24: =SUM(G24:L24) -> 0 | M24: C2/C3 | N24: D1
A25: I.2.7 | D25: ='RQ - Op Bdg'!D25 -> 0 | E25: =F25-D25 -> 0 | F25: =SUM(G25:L25) -> 0 | M25: C2/C3 | N25: D1
A26: I.2.8 | D26: ='RQ - Op Bdg'!D26 -> 0 | E26: =F26-D26 -> 0 | F26: =SUM(G26:L26) -> 0 | M26: C2/C3 | N26: D1
A27: I.2.9 | D27: ='RQ - Op Bdg'!D27 -> 0 | E27: =F27-D27 -> 0 | F27: =SUM(G27:L27) -> 0 | M27: C2/C3 | N27: D1
C28: Total goods & services delivered to the beneficiaries | D28: =SUM(D22:D27) -> 0 | E28: =SUM(E22:E27) -> 0 | F28: =SUM(F22:F27) -> 0 | G28: =SUM(G22:G27) -> 0 | H28: =SUM(H22:H27) -> 0 | I28: =SUM(I22:I27) -> 0 | J28: =SUM(J22:J27) -> 0 | K28: =SUM(K22:K27) -> 0 | L28: =SUM(L22:L27) -> 0 | O28: =SUM(O22:O27) -> 0 | P28: =SUM(P22:P27) -> 0 | Q28: =SUM(Q22:Q27) -> 0
C29: TOTAL PROGRAMME DIRECT COSTS | D29: =SUM(D12,D14,D20,D28) -> 0 | E29: =SUM(E12,E14,E20,E28) -> 0 | F29: =SUM(F12,F14,F20,F28) -> 0 | G29: =SUM(G12,G14,G20,G28) -> 0 | H29: =SUM(H12,H14,H20,H28) -> 0 | I29: =SUM(I12,I14,I20,I28) -> 0 | J29: =SUM(J12,J14,J20,J28) -> 0 | K29: =SUM(K12,K14,K20,K28) -> 0 | L29: =SUM(L12,L14,L20,L28) -> 0 | O29: =SUM(O12,O14,O20,O28) -> 0 | P29: =SUM(P12,P14,P20,P28) -> 0 | Q29: =SUM(Q12,Q14,Q20,Q28) -> 0
A30: II. | C30: SUPPORT COSTS
A31: II.1 | C31: Support Staff costs
C32: Support staff Salaries (incl. per diem, fringe benefit, severance pay, risk premium, R&R, etc.)
A33: II.1.1 | C33: International Support Staff | D33: ='RQ - Op Bdg'!D33 -> 0 | E33: =F33-D33 -> 0 | F33: =SUM(G33:L33) -> 0 | M33: A1/A2 | N33: D1
A34: II.1.2 | C34: Local Support Staff | D34: ='RQ - Op Bdg'!D34 -> 0 | E34: =F34-D34 -> 0 | F34: =SUM(G34:L34) -> 0 | M34: A1/A2 | N34: D1
A35: II.1.3 | C35: Regional Office Support Staff | D35: ='RQ - Op Bdg'!D35 -> 0 | E35: =F35-D35 -> 0 | F35: =SUM(G35:L35) -> 0 | M35: A1/A2 | N35: D1
A36: II.1.4 | C36: Headquarters Office Support Staff | D36: ='RQ - Op Bdg'!D36 -> 0 | E36: =F36-D36 -> 0 | F36: =SUM(G36:L36) -> 0 | M36: A1/A2 | N36: D1
C37: Total Direct Support Staff costs | D37: =SUM(D33:D36) -> 0 | E37: =SUM(E33:E36) -> 0 | F37: =SUM(F33:F36) -> 0 | G37: =SUM(G33:G36) -> 0 | H37: =SUM(H33:H36) -> 0 | I37: =SUM(I33:I36) -> 0 | J37: =SUM(J33:J36) -> 0 | K37: =SUM(K33:K36) -> 0 | L37: =SUM(L33:L36) -> 0 | O37: =SUM(O33:O36) -> 0 | P37: =SUM(P33:P36) -> 0 | Q37: =SUM(Q33:Q36) -> 0
A38: II.1.5 | C38: Support staff Travel and Subsistence costs | D38: ='RQ - Op Bdg'!D38 -> 0 | E38: =F38-D38 -> 0 | F38: =SUM(G38:L38) -> 0 | M38: C1 | N38: D1
C39: Total Support staff Travel and Subsistence costs | D39: =SUM(D38) -> 0 | E39: =SUM(E38) -> 0 | F39: =SUM(F38) -> 0 | G39: =SUM(G38) -> 0 | H39: =SUM(H38) -> 0 | I39: =SUM(I38) -> 0 | J39: =SUM(J38) -> 0 | K39: =SUM(K38) -> 0 | L39: =SUM(L38) -> 0 | O39: =SUM(O38) -> 0 | P39: =SUM(P38) -> 0 | Q39: =SUM(Q38) -> 0
A40: II.2 | C40: Running costs
...

Sheet MR - Annex 2
C1: ANNEX 2 XXX MGA — MULTI + MONO
C2: ESTIMATED REVISED BUDGET FOR THE ACTION
C3: Estimated eligible1 costs (per budget category) | U3: Estimated EU contribution2
C4: Direct costs | S4: Indirect costs | T4: Total costs | U4: EU contribution to eligible costs | X4: Contributions | AB4: Maximum grant amount6
C5: A. Personnel costs | H5: B. Subcontracting costs | I5: C. Purchase costs | O5: D. Other cost categories | S5: E. Indirect costs3 | U5: Funding rate %4 | V5: Maximum EU contribution5 | W5: Requested EU contribution | X5: F.Contributions
C6: A.1 Employees (or equivalent) | E6: A.4 SME owners and natural person beneficiaries | F6: A.5 Volunteers | G6: A.6 [name] | I6: C.1 Travel and subsistence | J6: C.1 Travel and subsistence | M6: C.2 Equipment | N6: C.3 Other goods, works and services | O6: D.1 Financial support to third parties | Q6: D.2 Field office cost | R6: D.X [name] | X6: F.X [name] | Y6: F.X [name] | Z6: F.X [name] | AA6: F.X [name]
C7: A.2 Natural persons under direct contract | J7: Travel | K7: Accommodation | L7: Subsistence
C8: A.3 Seconded persons
A9: Forms of funding | B9: Names | C9: Actual costs | D9: Unit costs (usual accounting practices) | E9: Unit costs7 | F9: Unit costs7 | G9: [Actual costs][Unit costs7][Lump sum costs] | H9: Actual costs | I9: Actual costs | J9: [Actual costs][Unit7 or actual costs] | K9: [Actual costs][Unit7 or actual costs] | L9: [Actual costs][Unit7 or actual costs] | M9: Actual costs | N9: Actual costs | O9: Actual costs | P9: Unit costs7 | Q9: Unit costs (usual accounting practices) | R9: Unit costs7 | S9: Flat-rate costs8 | X9: Unit contribution7 | Y9: Flat-rate contribution8 | Z9: Lump sum contribution | AA9: Financing not linked to costs
C10: a1 | D10: a2 | E10: a3 | F10: a4 | G10: a5 | H10: b | I10: c1 | J10: c1a | K10: c1b | L10: c1c | M10: c2 | N10: c3 | O10: [d1] | P10: [d1] | Q10: d2 | R10: d3 | S10: e = flat-rate * (a1 + b + c1 + c2 + c3 + d1 + d2) | T10: f = a+b+c+d+e | U10: U | V10: g = f*U% | W10: h | X10: i | Y10: j = flat-rate * (XXX) | Z10: k | AA10: l | AB10: m
A11: 1 - Coordinator | B11: ='MR - Op Bdg'!G3 -> 0 | H11: 0 | I11: ='MR - Op Bdg'!G14+'MR - Op Bdg'!G39 -> 0 | Q11: ='MR - Op Bdg'!G67 -> 0 | S11: =(C11+D11+H11+I11+M11+N11+O11+Q11)*'RQ - Op Bdg'!$D$72 -> 0 | T11: =C11+D11+H11+I11+M11+N11+O11+Q11+S11 -> 0 | V11: =T11*U14 -> #DIV/0! | W11: =V11 -> #DIV/0! | AB11: =W11 -> #DIV/0!
A12: 2 - Co-beneficiary 1 | B12: ='MR - Op Bdg'!I3 -> 0 | H12: 0 | I12: ='MR - Op Bdg'!I14+'MR - Op Bdg'!I39 -> 0 | Q12: ='MR - Op Bdg'!I67 -> 0 | S12: =(C12+D12+H12+I12+M12+N12+O12+Q12)*'RQ - Op Bdg'!$D$72 -> 0 | T12: =C12+D12+H12+I12+M12+N12+O12+Q12+S12 -> 0 | V12: =T12*U14 -> #DIV/0! | W12: =V12 -> #DIV/0! | AB12: =W12 -> #DIV/0!
A13: 3 - Co-beneficiary 2 | B13: ='MR - Op Bdg'!K3 -> 0 | H13: 0 | I13: ='MR - Op Bdg'!K14+'MR - Op Bdg'!K39 -> 0 | Q13: ='MR - Op Bdg'!K67 -> 0 | S13: =(C13+D13+H13+I13+M13+N13+O13+Q13)*'RQ - Op Bdg'!$D$72 -> 0 | T13: =C13+D13+H13+I13+M13+N13+O13+Q13+S13 -> 0 | V13: =T13*U14 -> #DIV/0! | W13: =V13 -> #DIV/0! | AB13: =W13 -> #DIV/0!
A14: Total consortium | C14: =SUM(C11:C13) -> 0 | D14: =SUM(D11:D13) -> 0 | H14: =SUM(H11:H13) -> 0 | I14: =SUM(I11:I13) -> 0 | M14: =SUM(M11:M13) -> 0 | N14: =SUM(N11:N13) -> 0 | O14: =SUM(O11:O13) -> 0 | Q14: =SUM(Q11:Q13) -> 0 | S14: =SUM(S11:S13) -> 0 | T14: =SUM(T11:T13) -> 0 | U14: ='MR - Op Bdg'!P74 -> #DIV/0! | V14: =SUM(V11:V13) -> #DIV/0! | W14: =SUM(W11:W13) -> #DIV/0! | AB14: =SUM(AB11:AB13) -> #DIV/0!
U15: % of EC Contribution on total project
A17: 1. See Article 6 for the eligibility conditions. All amounts must be expressed in EUR (see Article 21 for the conversion rules).
A18: 2.The consortium remains free to decide on a different internal distribution of the EU funding (via the consortium agreement; see Article 7).
A19: 3. Indirect costs already covered by an operating grant (received under any EU funding programme) are ineligible (see Article 6.3). Therefore, a beneficiary/affiliated entity that receives an operating grant during the action duration cannot
A20: declare indirect costs for the year(s)/reporting period(s) covered by the operating grant, unless they can demonstrate that the operating grant does not cover any costs of the action. This requires specific accounting tools.
A21: 4. See Data Sheet for the funding rate(s).
A22: 5. This is the theoretical amount of the EU contribution to costs, if the reimbursement rate is applied to all the budgeted costs. This theoretical amount is then capped by the 'maximum grant amount'.
A23: 6. The 'maximum grant amount' is the maximum grant amount decided by the EU. It normally corresponds to the requested grant, but may be lower.
A24: 7. See Annex 2a 'Additional information on the estimated budget' for the details (units, cost per unit).
A25: 8. See Data Sheet for the flat-rate.

Sheet FR - Fin Report
A1: FINANCIAL FINAL REPORT | D1: ALL PARTNERS | G1: SPLIT by CO-PARTNER | M1: Annex II cost category for Certified Partners | N1: Annex II Cost Category for third Parties (IP) | O1: SPLIT by RESULT - ALL PARTNERS
A2: All amounts in EUR | D2: TOTAL last agreed budget - RQ or MR | E2: Diff. | F2: TOTAL actual incurred costs - FR | G2: COORDINATOR | I2: Co-Partner 1 | K2: Co-Partner 2 | O2: RESULT 1 | P2: RESULT 2 | Q2: RESULT 3
A3: Budget codes
A4: ECHO | B4: Partner | G4: Direct Implementation | H4: Implemented by IP(s) | I4: Direct Implementation | J4: Implemented by IP(s) | K4: Direct Implementation | L4: Implemented by IP(s)
A5: I. | C5: PROGRAMME COSTS
A6: I.1 | C6: Programme Staff costs
C7: Programme staff Salaries (incl. per diem, fringe benefit, severance pay, risk premium, R&R, etc.)
A8: I.1.1 | C8: International Programme Staff | D8: ='MR - Op Bdg'!F8 -> 0 | E8: =F8-D8 -> 0 | F8: =SUM(G8:L8) -> 0 | M8: A1/A2 | N8: D1
A9: I.1.2 | C9: Local Programme Staff | D9: ='MR - Op Bdg'!F9 -> 0 | E9: =F9-D9 -> 0 | F9: =SUM(G9:L9) -> 0 | M9: A1/A2 | N9: D1
A10: I.1.3 | C10: Regional Office Programme Staff | D10: ='MR - Op Bdg'!F10 -> 0 | E10: =F10-D10 -> 0 | F10: =SUM(G10:L10) -> 0 | M10: A1/A2 | N10: D1
A11: I.1.4 | C11: Headquarters Office Programme Staff | D11: ='MR - Op Bdg'!F11 -> 0 | E11: =F11-D11 -> 0 | F11: =SUM(G11:L11) -> 0 | M11: A1/A2 | N11: D1
C12: Total Direct Programme Staff costs | D12: =SUM(D8:D11) -> 0 | E12: =SUM(E8:E11) -> 0 | F12: =SUM(F8:F11) -> 0 | G12: =SUM(G8:G11) -> 0 | H12: =SUM(H8:H11) -> 0 | I12: =SUM(I8:I11) -> 0 | J12: =SUM(J8:J11) -> 0 | K12: =SUM(K8:K11) -> 0 | L12: =SUM(L8:L11) -> 0 | O12: =SUM(O8:O11) -> 0 | P12: =SUM(P8:P11) -> 0 | Q12: =SUM(Q8:Q11) -> 0
A13: I.1.5 | C13: Programme staff Travel and Subsistence costs | D13: ='MR - Op Bdg'!F13 -> 0 | E13: =F13-D13 -> 0 | F13: =SUM(G13:L13) -> 0 | M13: C1 | N13: D1
C14: Total Programme staff Travel and Subsistence costs | D14: =SUM(D13) -> 0 | E14: =SUM(E13) -> 0 | F14: =SUM(F13) -> 0 | G14: =SUM(G13) -> 0 | H14: =SUM(H13) -> 0 | I14: =SUM(I13) -> 0 | J14: =SUM(J13) -> 0 | K14: =SUM(K13) -> 0 | L14: =SUM(L13) -> 0 | O14: =SUM(O13) -> 0 | P14: =SUM(P13) -> 0 | Q14: =SUM(Q13) -> 0
A15: I.2 | C15: Goods & Services delivered to the beneficiaries
C16: Cash & Voucher
A17: I.2.1 | C17: In Cash (net amount of cash received by beneficiaries) | D17: ='MR - Op Bdg'!F17 -> 0 | E17: =F17-D17 -> 0 | F17: =SUM(G17:L17) -> 0 | M17: D1 | N17: D1
A18: I.2.2 | C18: Transfer costs for cash provision (provider/cards fees, etc.) | D18: ='MR - Op Bdg'!F18 -> 0 | E18: =F18-D18 -> 0 | F18: =SUM(G18:L18) -> 0 | M18: C3 | N18: D1
A19: I.2.3 | C19: Via Vouchers (net amount of cash received by beneficiaries) | D19: ='MR - Op Bdg'!F19 -> 0 | E19: =F19-D19 -> 0 | F19: =SUM(G19:L19) -> 0 | M19: C3 | N19: D1
C20: Total Cash & Voucher | D20: =SUM(D17:D19) -> 0 | E20: =SUM(E17:E19) -> 0 | F20: =SUM(F17:F19) -> 0 | G20: =SUM(G17:G19) -> 0 | H20: =SUM(H17:H19) -> 0 | I20: =SUM(I17:I19) -> 0 | J20: =SUM(J17:J19) -> 0 | K20: =SUM(K17:K19) -> 0 | L20: =SUM(L17:L19) -> 0 | O20: =SUM(O17:O19) -> 0 | P20: =SUM(P17:P19) -> 0 | Q20: =SUM(Q17:Q19) -> 0
C21: Other Goods & Services delivered to the beneficiaries
A22: I.2.4 | C22: To be detailed as relevant for partner | D22: ='MR - Op Bdg'!F22 -> 0 | E22: =F22-D22 -> 0 | F22: =SUM(G22:L22) -> 0 | M22: C2/C3 | N22: D1
A23: I.2.5 | C23: To be detailed as relevant for partner | D23: ='MR - Op Bdg'!F23 -> 0 | E23: =F23-D23 -> 0 | F23: =SUM(G23:L23) -> 0 | M23: C2/C3 | N23: D1
A24: I.2.6 | C24: … | D24: ='MR - Op Bdg'!F24 -> 0 | E24: =F24-D24 -> 0 | F24: =SUM(G24:L24) -> 0 | M24: C2/C3 | N24: D1
A25: I.2.7 | D25: ='MR - Op Bdg'!F25 -> 0 | E25: =F25-D25 -> 0 | F25: =SUM(G25:L25) -> 0 | M25: C2/C3 | N25: D1
A26: I.2.8 | D26: ='MR - Op Bdg'!F26 -> 0 | E26: =F26-D26 -> 0 | F26: =SUM(G26:L26) -> 0 | M26: C2/C3 | N26: D1
A27: I.2.9 | D27: ='MR - Op Bdg'!F27 -> 0 | E27: =F27-D27 -> 0 | F27: =SUM(G27:L27) -> 0 | M27: C2/C3 | N27: D1
C28: Total goods & services delivered to the beneficiaries | D28: =SUM(D22:D27) -> 0 | E28: =SUM(E22:E27) -> 0 | F28: =SUM(F22:F27) -> 0 | G28: =SUM(G22:G27) -> 0 | H28: =SUM(H22:H27) -> 0 | I28: =SUM(I22:I27) -> 0 | J28: =SUM(J22:J27) -> 0 | K28: =SUM(K22:K27) -> 0 | L28: =SUM(L22:L27) -> 0 | O28: =SUM(O22:O27) -> 0 | P28: =SUM(P22:P27) -> 0 | Q28: =SUM(Q22:Q27) -> 0
C29: TOTAL PROGRAMME DIRECT COSTS | D29: =SUM(D12,D14,D20,D28) -> 0 | E29: =SUM(E12,E14,E20,E28) -> 0 | F29: =SUM(F12,F14,F20,F28) -> 0 | G29: =SUM(G12,G14,G20,G28) -> 0 | H29: =SUM(H12,H14,H20,H28) -> 0 | I29: =SUM(I12,I14,I20,I28) -> 0 | J29: =SUM(J12,J14,J20,J28) -> 0 | K29: =SUM(K12,K14,K20,K28) -> 0 | L29: =SUM(L12,L14,L20,L28) -> 0 | O29: =SUM(O12,O14,O20,O28) -> 0 | P29: =SUM(P12,P14,P20,P28) -> 0 | Q29: =SUM(Q12,Q14,Q20,Q28) -> 0
A30: II. | C30: SUPPORT COSTS
A31: II.1 | C31: Support Staff costs
C32: Support staff Salaries (incl. per diem, fringe benefit, severance pay, risk premium, R&R, etc.)
A33: II.1.1 | C33: International Support Staff | D33: ='MR - Op Bdg'!F33 -> 0 | E33: =F33-D33 -> 0 | F33: =SUM(G33:L33) -> 0 | M33: A1/A2 | N33: D1
A34: II.1.2 | C34: Local Support Staff | D34: ='MR - Op Bdg'!F34 -> 0 | E34: =F34-D34 -> 0 | F34: =SUM(G34:L34) -> 0 | M34: A1/A2 | N34: D1
A35: II.1.3 | C35: Regional Office Support Staff | D35: ='MR - Op Bdg'!F35 -> 0 | E35: =F35-D35 -> 0 | F35: =SUM(G35:L35) -> 0 | M35: A1/A2 | N35: D1
A36: II.1.4 | C36: Headquarters Office Support Staff | D36: ='MR - Op Bdg'!F36 -> 0 | E36: =F36-D36 -> 0 | F36: =SUM(G36:L36) -> 0 | M36: A1/A2 | N36: D1
C37: Total Direct Support Staff costs | D37: =SUM(D33:D36) -> 0 | E37: =SUM(E33:E36) -> 0 | F37: =SUM(F33:F36) -> 0 | G37: =SUM(G33:G36) -> 0 | H37: =SUM(H33:H36) -> 0 | I37: =SUM(I33:I36) -> 0 | J37: =SUM(J33:J36) -> 0 | K37: =SUM(K33:K36) -> 0 | L37: =SUM(L33:L36) -> 0 | O37: =SUM(O33:O36) -> 0 | P37: =SUM(P33:P36) -> 0 | Q37: =SUM(Q33:Q36) -> 0
A38: II.1.5 | C38: Support staff Travel and Subsistence costs | D38: ='MR - Op Bdg'!F38 -> 0 | E38: =F38-D38 -> 0 | F38: =SUM(G38:L38) -> 0 | M38: C1 | N38: D1
C39: Total Support staff Travel and Subsistence costs | D39: =SUM(D38) -> 0 | E39: =SUM(E38) -> 0 | F39: =SUM(F38) -> 0 | G39: =SUM(G38) -> 0 | H39: =SUM(H38) -> 0 | I39: =SUM(I38) -> 0 | J39: =SUM(J38) -> 0 | K39: =SUM(K38) -> 0 | L39: =SUM(L38) -> 0 | O39: =SUM(O38) -> 0 | P39: =SUM(P38) -> 0 | Q39: =SUM(Q38) -> 0
A40: II.2 | C40: Running costs
...

Sheet FR - Annex 4
C1: ANNEX 4 XXX MGA — MULTI + MONO
C2: FINANCIAL STATEMENTS FOR THE ACTION
C3: Eligible1 costs (per budget category)
C4: Direct costs | P4: Indirect costs | Q4: Total costs
C5: A. Personnel costs | E5: B. Subcontracting costs | F5: C. Purchase costs | L5: D. Other cost categories | P5: E. Indirect costs3
C6: A.1 Employees (or equivalent) | F6: C.1 Travel and subsistence | G6: C.1 Travel and subsistence | J6: C.2 Equipment | K6: C.3 Other goods, works and services | L6: D.1 Financial support to third parties | N6: D.2 Field office cost | O6: D.X [name]
C7: A.2 Natural persons under direct contract | G7: Travel | H7: Accommodation | I7: Subsistence
C8: A.3 Seconded persons
A9: Forms of funding | B9: Names | C9: Actual costs | D9: Unit costs (usual accounting practices) | E9: Actual costs | F9: Actual costs | G9: [Actual costs][Unit7 or actual costs] | H9: [Actual costs][Unit7 or actual costs] | I9: [Actual costs][Unit7 or actual costs] | J9: Actual costs | K9: Actual costs | L9: Actual costs | M9: Unit costs7 | N9: Unit costs (usual accounting practices) | O9: Unit costs7 | P9: Flat-rate costs8
C10: a1 | D10: a2 | E10: b | F10: c1 | G10: c1a | H10: c1b | I10: c1c | J10: c2 | K10: c3 | L10: d1 | M10: [d1] | N10: d2 | O10: d3 | P10: e = flat-rate * (a1 + b + c1 + c2 + c3 + d1 + d2) | Q10: f = a+b+c+d+e
A11: 1 - Coordinator | B11: ='FR - Fin Report'!G3 -> 0 | E11: 0 | F11: ='FR - Fin Report'!G14+'FR - Fin Report'!G39 -> 0 | N11: ='FR - Fin Report'!G67 -> 0 | P11: =(C11+D11+E11+F11+J11+K11+L11+N11)*'FR - Fin Report'!$F$72 -> 0 | Q11: =C11+D11+E11+F11+J11+K11+L11+N11+P11 -> 0
A12: 2 - Co-beneficiary 1 | B12: ='FR - Fin Report'!I3 -> 0 | E12: 0 | F12: ='FR - Fin Report'!I14+'FR - Fin Report'!I39 -> 0 | N12: ='FR - Fin Report'!I67 -> 0 | P12: =(C12+D12+E12+F12+J12+K12+L12+N12)*'FR - Fin Report'!$F$72 -> 0 | Q12: =C12+D12+E12+F12+J12+K12+L12+N12+P12 -> 0
A13: 3 - Co-beneficiary 2 | B13: ='FR - Fin Report'!K3 -> 0 | E13: 0 | F13: ='FR - Fin Report'!K14+'FR - Fin Report'!K39 -> 0 | N13: ='FR - Fin Report'!K67 -> 0 | P13: =(C13+D13+E13+F13+J13+K13+L13+N13)*'FR - Fin Report'!$F$72 -> 0 | Q13: =C13+D13+E13+F13+J13+K13+L13+N13+P13 -> 0
A14: Total consortium | C14: =SUM(C11:C13) -> 0 | D14: =SUM(D11:D13) -> 0 | E14: =SUM(E11:E13) -> 0 | F14: =SUM(F11:F13) -> 0 | J14: =SUM(J11:J13) -> 0 | K14: =SUM(K11:K13) -> 0 | L14: =SUM(L11:L13) -> 0 | N14: =SUM(N11:N13) -> 0 | P14: =SUM(P11:P13) -> 0 | Q14: =SUM(Q11:Q13) -> 0
A17: 1. See Article 6 for the eligibility conditions. All amounts must be expressed in EUR (see Article 21 for the conversion rules).
A18: 2.The consortium remains free to decide on a different internal distribution of the EU funding (via the consortium agreement; see Article 7).
A19: 3. Indirect costs already covered by an operating grant (received under any EU funding programme) are ineligible (see Article 6.3). Therefore, a beneficiary/affiliated entity that receives an operating grant during the action duration cannot
A20: declare indirect costs for the year(s)/reporting period(s) covered by the operating grant, unless they can demonstrate that the operating grant does not cover any costs of the action. This requires specific accounting tools.
A21: 4. See Data Sheet for the funding rate(s).
A22: 5. This is the theoretical amount of the EU contribution to costs, if the reimbursement rate is applied to all the budgeted costs. This theoretical amount is then capped by the 'maximum grant amount'.
A23: 6. The 'maximum grant amount' is the maximum grant amount decided by the EU. It normally corresponds to the requested grant, but may be lower.
A24: 7. See Annex 2a 'Additional information on the estimated budget' for the details (units, cost per unit).
A25: 8. See Data Sheet for the flat-rate.

Sheet Section 13 - SF
A1: To be inserted in e-single Form
A3: 13. Financial Overview of the Action
A5: 13.1 Estimated Costs
B6: Initial Budget | C6: Revised Budget | D6: Interim Report - Incurred costs | E6: Final report - Incurred costs | F6: (RCI) Final Update
A7: Total Direct Eligible Costs | B7: ='RQ - Op Bdg'!D69 -> 0 | C7: ='MR - Op Bdg'!F69 -> 0 | E7: ='FR - Fin Report'!F69 -> 0
A8: % of indirect costs (max 7%) | B8: ='RQ - Op Bdg'!D72 -> 0.07 | C8: ='MR - Op Bdg'!F71 -> 0.07 | E8: ='FR - Fin Report'!F72 -> 0.07
A9: Amount of indirect costs (cut after 2nd decimal) | B9: =ROUND(B8*B7,2) -> 0 | C9: ='MR - Op Bdg'!F73 -> 0 | E9: ='FR - Fin Report'!F73 -> 0
A10: Total Cost | B10: =B7+B9 -> 0 | C10: =C7+C9 -> 0 | D10: =D7+D9 -> 0 | E10: =E7+E9 -> 0 | F10: =F7+F9 -> 0
A12: 13.2 Percentage of direct eligible costs allocated to the support costs
B14: Initial Budget | C14: Revised Budget | D14: Interim Report - Incurred costs | E14: Final report - Incurred costs
A15: % of support costs | B15: ='RQ - Op Bdg'!D70 -> #DIV/0! | C15: ='MR - Op Bdg'!F70 -> #DIV/0! | E15: ='FR - Fin Report'!F70 -> #DIV/0!
A17: 13.3 Funding of action
B19: Initial Budget | C19: Revised Budget | D19: Interim Report - Incurred costs | E19: Final report - Incurred costs | F19: (RCI) Final Update
A20: Direct revenue of the action
A21: Contribution by applicant
A22: Contribution by other donors
A23: Contribution by beneficiaries
A24: Contribution requested from ECHO | E24: =E10*E25 -> #DIV/0! | F24: =F10*F25 -> #DIV/0!
A25: % of total funding | B25: =B24/B26 -> #DIV/0! | C25: =C24/C26 -> #DIV/0! | D25: =D24/D26 -> #DIV/0! | E25: =C25 -> #DIV/0! | F25: =D25 -> #DIV/0!
A26: Total funding | B26: =SUM(B20:B24) -> 0 | C26: =SUM(C20:C24) -> 0 | D26: =SUM(D20:D24) -> 0 | E26: =SUM(E20:E24) -> #DIV/0! | F26: =SUM(F20:F24) -> #DIV/0!
A27: Check | B27: =IF(B26=B10," ","ERR") | C27: =IF(C26=C10," ","ERR") | D27: =IF(D26=D10," ","ERR") | E27: =IF(E26=E10," ","ERR") -> #DIV/0! | F27: =IF(F26=F10," ","ERR") -> #DIV/0!
