Workbook
Name OLE_LINK1: 'Project - FR'!#REF!
Name OLE_LINK1: 'Project - MR'!#REF!
Name OLE_LINK1: 'Project - RQ '!#REF!

Sheet Budget Category Guidance 
A1: Budget Categories: Guidance Note
A2: Project RQ Cost Category | C2: Cost Definition | D2: Notes | E2: Examples
A3: 1 - Staff costs | B3: Salaries (incl. per diem, fringe benefit, severance pay, risk premium, R&R, etc.) | C3: Project staff salaries including income taxes; project staff social security or national insurance contributions; staff-related statutory costs; additional remuneration paid as part of the agency's standard staff contract; statutory termination payments at the end of the project; costs related to persons paid as consultants but acting as staff members in the activities.staff housing costs where required directly by the project. | D3: Costs should be traceable and linked to a particular staff member working on the Action | E3: √ Salaries, fringe benefits, local taxes, recruitment, R&R costs. Housing costs for international staff (rent, utilities etc.)
D4: Staff should be seperated for international staff and national staff | E4: √ Temporary staff for non-project costs e.g. casual cook for office etc.
E5: Consultants and secondees depends on function if work as staff member can be included here but if work for specific assignmnet on project and not similar to staff work then should not be included here.
A6: 2. Travel and subsistence costs | C6: Travel in relation to project activities or monitoring, including car rental, fuel, depreciation of pre-owned vehicles used for the project, required flights for the project and public transport; accommodation for travelling staff on project activities (all based on the agency's agreed policy); visas and other travel permits where required by the project.subsistence or per diems for travelling staff; | E6: √ Per diem
E7: √ housing rent for international staff, subsitences paid separate from payroll
E8: √ flight, train, road transportation
E9: √ Accomodation
E10: √ Visa costs
A11: 3 - Goods & Services delivered to the beneficiaries | B11: 2.1 Cash & Voucher | C11: financial support to beneficiaries; distribution costs associated with financial support to beneficiaries | E11: √ Cash assistance, cash for work, voucher
E12: √ service fee for cash transfer
B13: 2.2 Other Goods and Services | C13: Procured supplies and materials required for the activities; Cash for work payments; education and sensitization sessions, radio spots, etc. that are directed to beneficiaries (whatever the topic), all costs related to workshops, printing of leaflets, brochures, etc. if part of the activities | E13: √ Drugs, health materials and supplies, water testing products, NFIs.
E14: √ Latrine construction work and/or materials
E15: √ Labour costs directly related to project activities e.g. Incentives of Health Promoters
E16: √ External evaluations, studies, technical reports
E17: √ Training costs (materials, hall rental, food, facilitator fees, travel reimbursement for training participants etc.)
E18: √ Fuel for generator in a health facility
A19: 4 - Running costs | C19: Field and Capital office / Wharehouse / Building expenses (rent, utilities, furniture, consumable, insurance and supplies), IT/office/communication equipment - maintenance & running costs,depreciation of pre-owned equipment used for the project; any other project running cost, equipment with a unit value less than EUR 1,000 | D19: Costs associated with supporting the delivery of the project, which are not allocated to other cost categories. This includes all non staff costs of procurement, transportation and storage for the goods and services for the beneficiaries. | E19: √ Office rent and utilities, office supplies, vehicle costs (rental, fuel, maintenance, registration fees etc.), telecommunication costs (phones, internet etc.), security
E20: √ Insurance, bank fees, legal fees
A21: 5- Equipment costs | C21: Purchase costs of vehicles, equipment and other capital items directly required for the delivery of the funded activities, and with a unit value greater than EUR 1,000 | D21: Purchase costs of equipment above EUR 1,000. | E21: √ Laptops, vehicles, data collection equipment, security equipment
A22: 6 - Capacity Building Local IP | C22: Capacity Building training workshops for local implementing partners
A23: 7 - Specialised services | C23: costs of project services including consultants, project audit fees, legal advice specifically in connection with the project and other required specialists | E23: √ Project External Evaluation, project audit
A24: 8 - EU Visibility & Communication activites | C24: These are costs solely associated with communicating ECHO’s support of a project, including activities that highlight humanitarian issues and ECHO’s role more generally to wider audiences (not just beneficiaries). It is a contractual obligation (unless a derogation is requested and approved). | E24: √ Publications explaining the Commission’s humanitarian role and the essential messages √ Events showing the partnership between the Commission with the agency responsible for the project √ Human interest films on projects being financed by the Commission.
C25: This category does not include operational communication costs, i.e. products, which directly underpin the implementation of an action (e.g. training manuals, hygiene promotion material, advocacy leaflets, etc.). Costs related to the production of such material, also when displaying EU visual identity, are not covered under the visibility line.
C26: Standard visibility costs: Maximum of 1% of the project costs up to a maximum of 10,000 EUR; Entails the display of the EU visual identity on project sites and EU-funded supplies, and the written and verbal acknowledgement of the EU's funding and the partnership with the EU.
C27: Above-standard visibility: More elaborate communication actions with the view of more effectively reaching European audiences. e.g. visits by journalists. Detailed communication plan required. Any special visibility should be discussed and agreed with ECHO in advance.
A28: 9 - Field office costs (Simplified allocation method) | C28: The total of the shared cost pools to which this funding arrangement belongs, for the project time period

Sheet Project - RQ 
A1: INITIAL REQUEST | D1: ALL PARTNERS | F1: SPLIT by CO DELEGATEE | J1: SPLIT by RESULT - ALL PARTNERS
D2: TOTAL initial budget - RQ | F2: COORDINATOR | G2: Co-Delegatee 1 | H2: Co-Delegatee 2 | J2: RESULT 1 | K2: RESULT 2 | L2: RESULT 3
A3: Budget codes | C3: Name
A4: ECHO | B4: Partner
D5: Amt in EUR | F5: Amt in EUR | G5: Amt in EUR | H5: Amt in EUR | J5: Amt in EUR | K5: Amt in EUR | L5: Amt in EUR
A6: I. | C6: PROGRAMME COSTS
A7: I.1 | C7: Programme Staff costs
C8: Programme staff Salaries (incl. per diem, fringe benefit, severance pay, risk premium, R&R, etc.)
A9: I.1.1 | C9: International Programme Staff | D9: =SUM(F9:H9) -> 0
A10: I.1.2 | C10: Local Programme Staff | D10: =SUM(F10:H10) -> 0
A11: I.1.3 | C11: Regional Office Programme Staff | D11: =SUM(F11:H11) -> 0
A12: I.1.4 | C12: Headquarters Office Programme Staff | D12: =SUM(F12:H12) -> 0
C13: Total Direct Programme Staff costs | D13: =SUM(D9:D12) -> 0 | F13: =SUM(F9:F12) -> 0 | G13: =SUM(G9:G12) -> 0 | H13: =SUM(H9:H12) -> 0 | J13: =SUM(J9:J12) -> 0 | K13: =SUM(K9:K12) -> 0 | L13: =SUM(L9:L12) -> 0
A14: I.1.5 | C14: Programme staff Travel and Subsistence costs | D14: =SUM(F14:H14) -> 0
C15: Total Programme staff Travel and Subsistence costs | D15: =SUM(D14) -> 0 | F15: =SUM(F14) -> 0 | G15: =SUM(G14) -> 0 | H15: =SUM(H14) -> 0 | J15: =SUM(J14) -> 0 | K15: =SUM(K14) -> 0 | L15: =SUM(L14) -> 0
A16: I.2 | C16: Goods & Services delivered to the beneficiaries
C17: Cash & Voucher
A18: I.2.1 | C18: In Cash (net amount of cash received by beneficiaries) | D18: =SUM(F18:H18) -> 0
A19: I.2.2 | C19: Transfer costs for cash provision (provider/cards fees, etc.) | D19: =SUM(F19:H19) -> 0
A20: I.2.3 | C20: Via Vouchers (net amount of cash received by beneficiaries) | D20: =SUM(F20:H20) -> 0
C21: Total Cash & Voucher | D21: =SUM(D18:D20) -> 0 | F21: =SUM(F18:F20) -> 0 | G21: =SUM(G18:G20) -> 0 | H21: =SUM(H18:H20) -> 0 | J21: =SUM(J18:J20) -> 0 | K21: =SUM(K18:K20) -> 0 | L21: =SUM(L18:L20) -> 0
C22: Other Goods & Services delivered to the beneficiaries
A23: I.2.4 | C23: To be detailed as relevant for partner | D23: =SUM(F23:H23) -> 0
A24: I.2.5 | C24: To be detailed as relevant for partner | D24: =SUM(F24:H24) -> 0
A25: I.2.6 | C25: … | D25: =SUM(F25:H25) -> 0
A26: I.2.7 | D26: =SUM(F26:H26) -> 0
A27: I.2.8 | D27: =SUM(F27:H27) -> 0
A28: I.2.9 | D28: =SUM(F28:H28) -> 0
C29: Total goods & services delivered to the beneficiaries | D29: =SUM(D23:D28) -> 0 | F29: =SUM(F23:F28) -> 0 | G29: =SUM(G23:G28) -> 0 | H29: =SUM(H23:H28) -> 0 | J29: =SUM(J23:J28) -> 0 | K29: =SUM(K23:K28) -> 0 | L29: =SUM(L23:L28) -> 0
C30: TOTAL PROGRAMME DIRECT COSTS | D30: =SUM(D13,D15,D21,D29) -> 0 | F30: =SUM(F13,F15,F21,F29) -> 0 | G30: =SUM(G13,G15,G21,G29) -> 0 | H30: =SUM(H13,H15,H21,H29) -> 0 | J30: =SUM(J13,J15,J21,J29) -> 0 | K30: =SUM(K13,K15,K21,K29) -> 0 | L30: =SUM(L13,L15,L21,L29) -> 0
A32: II. | C32: SUPPORT COSTS
A33: II.1 | C33: Support Staff costs
C34: Support staff Salaries (incl. per diem, fringe benefit, severance pay, risk premium, R&R, etc.)
A35: II.1.1 | C35: International Support Staff | D35: =SUM(F35:H35) -> 0
A36: II.1.2 | C36: Local Support Staff | D36: =SUM(F36:H36) -> 0
A37: II.1.3 | C37: Regional Office Support Staff | D37: =SUM(F37:H37) -> 0
A38: II.1.4 | C38: Headquarters Office Support Staff | D38: =SUM(F38:H38) -> 0
C39: Total Direct Support Staff costs | D39: =SUM(D35:D38) -> 0 | F39: =SUM(F35:F38) -> 0 | G39: =SUM(G35:G38) -> 0 | H39: =SUM(H35:H38) -> 0 | J39: =SUM(J35:J38) -> 0 | K39: =SUM(K35:K38) -> 0 | L39: =SUM(L35:L38) -> 0
A40: II.1.5 | C40: Support staff Travel and Subsistence costs | D40: =SUM(F40:H40) -> 0
C41: Total Support staff Travel and Subsistence costs | D41: =SUM(D40) -> 0 | F41: =SUM(F40) -> 0 | G41: =SUM(G40) -> 0 | H41: =SUM(H40) -> 0 | J41: =SUM(J40) -> 0 | K41: =SUM(K40) -> 0 | L41: =SUM(L40) -> 0
...

Sheet Project - MR
A1: MODIFICATION REQUEST | D1: ALL PARTNERS | H1: SPLIT by CO DELEGATEE | L1: SPLIT by RESULT - ALL PARTNERS
D2: TOTAL previous agreed budget - RQ or previous MR | E2: Diff. | F2: TOTAL revised budget - MR | H2: COORDINATOR | I2: Co-Delegatee 1 | J2: Co-Delegatee 2 | L2: RESULT 1 | M2: RESULT 2 | N2: RESULT 3
A3: Budget codes | C3: Name
A4: ECHO | B4: Partner
D5: Amt in EUR | E5: Amt in EUR | F5: Amt in EUR | H5: Amt in EUR | I5: Amt in EUR | J5: Amt in EUR | L5: Amt in EUR | M5: Amt in EUR | N5: Amt in EUR
A6: I. | C6: PROGRAMME COSTS
A7: I.1 | C7: Programme Staff costs
C8: Programme staff Salaries (incl. per diem, fringe benefit, severance pay, risk premium, R&R, etc.)
A9: I.1.1 | C9: International Programme Staff | D9: ='Project - RQ '!D9 -> 0 | E9: =F9-D9 -> 0 | F9: =SUM(H9:J9) -> 0
A10: I.1.2 | C10: Local Programme Staff | D10: ='Project - RQ '!D10 -> 0 | E10: =F10-D10 -> 0 | F10: =SUM(H10:J10) -> 0
A11: I.1.3 | C11: Regional Office Programme Staff | D11: ='Project - RQ '!D11 -> 0 | E11: =F11-D11 -> 0 | F11: =SUM(H11:J11) -> 0
A12: I.1.4 | C12: Headquarters Office Programme Staff | D12: ='Project - RQ '!D12 -> 0 | E12: =F12-D12 -> 0 | F12: =SUM(H12:J12) -> 0
C13: Total Direct Programme Staff costs | D13: =SUM(D9:D12) -> 0 | E13: =SUM(E9:E12) -> 0 | F13: =SUM(F9:F12) -> 0 | H13: =SUM(H9:H12) -> 0 | I13: =SUM(I9:I12) -> 0 | J13: =SUM(J9:J12) -> 0 | L13: =SUM(L9:L12) -> 0 | M13: =SUM(M9:M12) -> 0 | N13: =SUM(N9:N12) -> 0
A14: I.1.5 | C14: Programme staff Travel and Subsistence costs | D14: ='Project - RQ '!D14 -> 0 | E14: =F14-D14 -> 0 | F14: =SUM(H14:J14) -> 0
C15: Total Programme staff Travel and Subsistence costs | D15: =SUM(D14) -> 0 | E15: =SUM(E14) -> 0 | F15: =SUM(F14) -> 0 | H15: =SUM(H14) -> 0 | I15: =SUM(I14) -> 0 | J15: =SUM(J14) -> 0 | L15: =SUM(L14) -> 0 | M15: =SUM(M14) -> 0 | N15: =SUM(N14) -> 0
A16: I.2 | C16: Goods & Services delivered to the beneficiaries
C17: Cash & Voucher
A18: I.2.1 | C18: In Cash (net amount of cash received by beneficiaries) | D18: ='Project - RQ '!D18 -> 0 | E18: =F18-D18 -> 0 | F18: =SUM(H18:J18) -> 0
A19: I.2.2 | C19: Transfer costs for cash provision (provider/cards fees, etc.) | D19: ='Project - RQ '!D19 -> 0 | E19: =F19-D19 -> 0 | F19: =SUM(H19:J19) -> 0
A20: I.2.3 | C20: Via Vouchers (net amount of cash received by beneficiaries) | D20: ='Project - RQ '!D20 -> 0 | E20: =F20-D20 -> 0 | F20: =SUM(H20:J20) -> 0
C21: Total Cash & Voucher | D21: =SUM(D18:D20) -> 0 | E21: =SUM(E18:E20) -> 0 | F21: =SUM(F18:F20) -> 0 | H21: =SUM(H18:H20) -> 0 | I21: =SUM(I18:I20) -> 0 | J21: =SUM(J18:J20) -> 0 | L21: =SUM(L18:L20) -> 0 | M21: =SUM(M18:M20) -> 0 | N21: =SUM(N18:N20) -> 0
C22: Other Goods & Services delivered to the beneficiaries
A23: I.2.4 | C23: To be detailed as relevant for partner | D23: ='Project - RQ '!D23 -> 0 | E23: =F23-D23 -> 0 | F23: =SUM(H23:J23) -> 0
A24: I.2.5 | C24: To be detailed as relevant for partner | D24: ='Project - RQ '!D24 -> 0 | E24: =F24-D24 -> 0 | F24: =SUM(H24:J24) -> 0
A25: I.2.6 | C25: … | D25: ='Project - RQ '!D25 -> 0 | E25: =F25-D25 -> 0 | F25: =SUM(H25:J25) -> 0
A26: I.2.7 | D26: ='Project - RQ '!D26 -> 0 | E26: =F26-D26 -> 0 | F26: =SUM(H26:J26) -> 0
A27: I.2.8 | D27: ='Project - RQ '!D27 -> 0 | E27: =F27-D27 -> 0 | F27: =SUM(H27:J27) -> 0
A28: I.2.9 | D28: ='Project - RQ '!D28 -> 0 | E28: =F28-D28 -> 0 | F28: =SUM(H28:J28) -> 0
C29: Total goods & services delivered to the beneficiaries | D29: =SUM(D23:D28) -> 0 | E29: =SUM(E23:E28) -> 0 | F29: =SUM(F23:F28) -> 0 | H29: =SUM(H23:H28) -> 0 | I29: =SUM(I23:I28) -> 0 | J29: =SUM(J23:J28) -> 0 | L29: =SUM(L23:L28) -> 0 | M29: =SUM(M23:M28) -> 0 | N29: =SUM(N23:N28) -> 0
C30: TOTAL PROGRAMME DIRECT COSTS | D30: =SUM(D13,D15,D21,D29) -> 0 | E30: =SUM(E13,E15,E21,E29) -> 0 | F30: =SUM(F13,F15,F21,F29) -> 0 | H30: =SUM(H13,H15,H21,H29) -> 0 | I30: =SUM(I13,I15,I21,I29) -> 0 | J30: =SUM(J13,J15,J21,J29) -> 0 | L30: =SUM(L13,L15,L21,L29) -> 0 | M30: =SUM(M13,M15,M21,M29) -> 0 | N30: =SUM(N13,N15,N21,N29) -> 0
A32: II. | C32: SUPPORT COSTS
A33: II.1 | C33: Support Staff costs
C34: Support staff Salaries (incl. per diem, fringe benefit, severance pay, risk premium, R&R, etc.)
A35: II.1.1 | C35: International Support Staff | D35: ='Project - RQ '!D35 -> 0 | E35: =F35-D35 -> 0 | F35: =SUM(H35:J35) -> 0
A36: II.1.2 | C36: Local Support Staff | D36: ='Project - RQ '!D36 -> 0 | E36: =F36-D36 -> 0 | F36: =SUM(H36:J36) -> 0
A37: II.1.3 | C37: Regional Office Support Staff | D37: ='Project - RQ '!D37 -> 0 | E37: =F37-D37 -> 0 | F37: =SUM(H37:J37) -> 0
A38: II.1.4 | C38: Headquarters Office Support Staff | D38: ='Project - RQ '!D38 -> 0 | E38: =F38-D38 -> 0 | F38: =SUM(H38:J38) -> 0
C39: Total Direct Support Staff costs | D39: =SUM(D35:D38) -> 0 | E39: =SUM(E35:E38) -> 0 | F39: =SUM(F35:F38) -> 0 | H39: =SUM(H35:H38) -> 0 | I39: =SUM(I35:I38) -> 0 | J39: =SUM(J35:J38) -> 0 | L39: =SUM(L35:L38) -> 0 | M39: =SUM(M35:M38) -> 0 | N39: =SUM(N35:N38) -> 0
A40: II.1.5 | C40: Support staff Travel and Subsistence costs | D40: ='Project - RQ '!D40 -> 0 | E40: =F40-D40 -> 0 | F40: =SUM(H40:J40) -> 0
C41: Total Support staff Travel and Subsistence costs | D41: =SUM(D40) -> 0 | E41: =SUM(E40) -> 0 | F41: =SUM(F40) -> 0 | H41: =SUM(H40) -> 0 | I41: =SUM(I40) -> 0 | J41: =SUM(J40) -> 0 | L41: =SUM(L40) -> 0 | M41: =SUM(M40) -> 0 | N41: =SUM(N40) -> 0
...

Sheet Project - FR
A1: FINAL REPORT | D1: ALL PARTNERS | H1: SPLIT by CO DELEGATEE | L1: SPLIT by RESULT - ALL PARTNERS
D2: TOTAL last agreed budget - RQ or MR | E2: Diff. | F2: TOTAL actual incurred costs - FR | H2: COORDINATOR | I2: Co-Delegatee 1 | J2: Co-Delegatee 2 | L2: RESULT 1 | M2: RESULT 2 | N2: RESULT 3
A3: Budget codes | C3: Name
A4: ECHO | B4: Partner
D5: Amt in EUR | E5: Amt in EUR | F5: Amt in EUR | H5: Amt in EUR | I5: Amt in EUR | J5: Amt in EUR | L5: Amt in EUR | M5: Amt in EUR | N5: Amt in EUR
A6: I. | C6: PROGRAMME COSTS
A7: I.1 | C7: Programme Staff costs
C8: Programme staff Salaries (incl. per diem, fringe benefit, severance pay, risk premium, R&R, etc.)
A9: I.1.1 | C9: International Programme Staff | D9: ='Project - MR'!F9 -> 0 | E9: =F9-D9 -> 0 | F9: =SUM(H9:J9) -> 0
A10: I.1.2 | C10: Local Programme Staff | D10: ='Project - MR'!F10 -> 0 | E10: =F10-D10 -> 0 | F10: =SUM(H10:J10) -> 0
A11: I.1.3 | C11: Regional Office Programme Staff | D11: ='Project - MR'!F11 -> 0 | E11: =F11-D11 -> 0 | F11: =SUM(H11:J11) -> 0
A12: I.1.4 | C12: Headquarters Office Programme Staff | D12: ='Project - MR'!F12 -> 0 | E12: =F12-D12 -> 0 | F12: =SUM(H12:J12) -> 0
C13: Total Direct Programme Staff costs | D13: =SUM(D9:D12) -> 0 | E13: =SUM(E9:E12) -> 0 | F13: =SUM(F9:F12) -> 0 | H13: =SUM(H9:H12) -> 0 | I13: =SUM(I9:I12) -> 0 | J13: =SUM(J9:J12) -> 0 | L13: =SUM(L9:L12) -> 0 | M13: =SUM(M9:M12) -> 0 | N13: =SUM(N9:N12) -> 0
A14: I.1.5 | C14: Programme staff Travel and Subsistence costs | D14: ='Project - MR'!F14 -> 0 | E14: =F14-D14 -> 0 | F14: =SUM(H14:J14) -> 0
C15: Total Programme staff Travel and Subsistence costs | D15: =SUM(D14) -> 0 | E15: =SUM(E14) -> 0 | F15: =SUM(F14) -> 0 | H15: =SUM(H14) -> 0 | I15: =SUM(I14) -> 0 | J15: =SUM(J14) -> 0 | L15: =SUM(L14) -> 0 | M15: =SUM(M14) -> 0 | N15: =SUM(N14) -> 0
A16: I.2 | C16: Goods & Services delivered to the beneficiaries
C17: Cash & Voucher
A18: I.2.1 | C18: In Cash (net amount of cash received by beneficiaries) | D18: ='Project - MR'!F18 -> 0 | E18: =F18-D18 -> 0 | F18: =SUM(H18:J18) -> 0
A19: I.2.2 | C19: Transfer costs for cash provision (provider/cards fees, etc.) | D19: ='Project - MR'!F19 -> 0 | E19: =F19-D19 -> 0 | F19: =SUM(H19:J19) -> 0
A20: I.2.3 | C20: Via Vouchers (net amount of cash received by beneficiaries) | D20: ='Project - MR'!F20 -> 0 | E20: =F20-D20 -> 0 | F20: =SUM(H20:J20) -> 0
C21: Total Cash & Voucher | D21: =SUM(D18:D20) -> 0 | E21: =SUM(E18:E20) -> 0 | F21: =SUM(F18:F20) -> 0 | H21: =SUM(H18:H20) -> 0 | I21: =SUM(I18:I20) -> 0 | J21: =SUM(J18:J20) -> 0 | L21: =SUM(L18:L20) -> 0 | M21: =SUM(M18:M20) -> 0 | N21: =SUM(N18:N20) -> 0
C22: Other Goods & Services delivered to the beneficiaries
A23: I.2.4 | C23: To be detailed as relevant for partner | D23: ='Project - MR'!F23 -> 0 | E23: =F23-D23 -> 0 | F23: =SUM(H23:J23) -> 0
A24: I.2.5 | C24: To be detailed as relevant for partner | D24: ='Project - MR'!F24 -> 0 | E24: =F24-D24 -> 0 | F24: =SUM(H24:J24) -> 0
A25: I.2.6 | C25: … | D25: ='Project - MR'!F25 -> 0 | E25: =F25-D25 -> 0 | F25: =SUM(H25:J25) -> 0
A26: I.2.7 | D26: ='Project - MR'!F26 -> 0 | E26: =F26-D26 -> 0 | F26: =SUM(H26:J26) -> 0
A27: I.2.8 | D27: ='Project - MR'!F27 -> 0 | E27: =F27-D27 -> 0 | F27: =SUM(H27:J27) -> 0
A28: I.2.9 | D28: ='Project - MR'!F28 -> 0 | E28: =F28-D28 -> 0 | F28: =SUM(H28:J28) -> 0
C29: Total goods & services delivered to the beneficiaries | D29: =SUM(D23:D28) -> 0 | E29: =SUM(E23:E28) -> 0 | F29: =SUM(F23:F28) -> 0 | H29: =SUM(H23:H28) -> 0 | I29: =SUM(I23:I28) -> 0 | J29: =SUM(J23:J28) -> 0 | L29: =SUM(L23:L28) -> 0 | M29: =SUM(M23:M28) -> 0 | N29: =SUM(N23:N28) -> 0
C30: TOTAL PROGRAMME DIRECT COSTS | D30: =SUM(D13,D15,D21,D29) -> 0 | E30: =SUM(E13,E15,E21,E29) -> 0 | F30: =SUM(F13,F15,F21,F29) -> 0 | H30: =SUM(H13,H15,H21,H29) -> 0 | I30: =SUM(I13,I15,I21,I29) -> 0 | J30: =SUM(J13,J15,J21,J29) -> 0 | L30: =SUM(L13,L15,L21,L29) -> 0 | M30: =SUM(M13,M15,M21,M29) -> 0 | N30: =SUM(N13,N15,N21,N29) -> 0
A32: II. | C32: SUPPORT COSTS
A33: II.1 | C33: Support Staff costs
C34: Support staff Salaries (incl. per diem, fringe benefit, severance pay, risk premium, R&R, etc.)
A35: II.1.1 | C35: International Support Staff | D35: ='Project - MR'!F35 -> 0 | E35: =F35-D35 -> 0 | F35: =SUM(H35:J35) -> 0
A36: II.1.2 | C36: Local Support Staff | D36: ='Project - MR'!F36 -> 0 | E36: =F36-D36 -> 0 | F36: =SUM(H36:J36) -> 0
A37: II.1.3 | C37: Regional Office Support Staff | D37: ='Project - MR'!F37 -> 0 | E37: =F37-D37 -> 0 | F37: =SUM(H37:J37) -> 0
A38: II.1.4 | C38: Headquarters Office Support Staff | D38: ='Project - MR'!F38 -> 0 | E38: =F38-D38 -> 0 | F38: =SUM(H38:J38) -> 0
C39: Total Direct Support Staff costs | D39: =SUM(D35:D38) -> 0 | E39: =SUM(E35:E38) -> 0 | F39: =SUM(F35:F38) -> 0 | H39: =SUM(H35:H38) -> 0 | I39: =SUM(I35:I38) -> 0 | J39: =SUM(J35:J38) -> 0 | L39: =SUM(L35:L38) -> 0 | M39: =SUM(M35:M38) -> 0 | N39: =SUM(N35:N38) -> 0
A40: II.1.5 | C40: Support staff Travel and Subsistence costs | D40: ='Project - MR'!F40 -> 0 | E40: =F40-D40 -> 0 | F40: =SUM(H40:J40) -> 0
C41: Total Support staff Travel and Subsistence costs | D41: =SUM(D40) -> 0 | E41: =SUM(E40) -> 0 | F41: =SUM(F40) -> 0 | H41: =SUM(H40) -> 0 | I41: =SUM(I40) -> 0 | J41: =SUM(J40) -> 0 | L41: =SUM(L40) -> 0 | M41: =SUM(M40) -> 0 | N41: =SUM(N40) -> 0
...
